BEGIN:VCALENDAR
VERSION:2.0
PRODID:Where &amp; When
 //NONSGML Events //EN
CALSCALE:GREGORIAN
X-WR-CALNAME:Where &amp; When
BEGIN:VEVENT
CREATED:20250106T192658Z
UID:95776
DTEND;VALUE=DATE:20250629T050000Z
DTSTART;VALUE=DATE:20250622T050000Z
DTSTAMP:20260425T204451Z
LOCATION:119 Elliotsville Road Farmington PA\, 15437
DESCRIPTION:
SUMMARY:Mountain Area Fair
ORGANIZER: 
URL;VALUE=URI:https://whereandwhen.com/events/mountain-area-fair/
TRANSP:OPAQUE
BEGIN:VALARM
ACTION:DISPLAY
TRIGGER;VALUE=DATE-TIME:20250629T050000Z
DESCRIPTION:Reminder for Mountain Area Fair
END:VALARM
END:VEVENT
END:VCALENDAR
