BEGIN:VCALENDAR
VERSION:2.0
PRODID:Where &amp; When
 //NONSGML Events //EN
CALSCALE:GREGORIAN
X-WR-CALNAME:Where &amp; When
BEGIN:VEVENT
CREATED:20250106T183904Z
UID:95758
DTEND;VALUE=DATE:20250727T050000Z
DTSTART;VALUE=DATE:20250726T050000Z
DTSTAMP:20260423T181215Z
LOCATION:809 Forbes Trail Road Greensburg PA\, 15601
DESCRIPTION:
SUMMARY:Civil War Weekend at Historic Hanna&#8217\;s Town
ORGANIZER: 
URL;VALUE=URI:https://whereandwhen.com/events/civil-war-weekend-at-historic-hannas-town/
TRANSP:OPAQUE
BEGIN:VALARM
ACTION:DISPLAY
TRIGGER;VALUE=DATE-TIME:20250727T050000Z
DESCRIPTION:Reminder for Civil War Weekend at Historic Hanna&#8217\;s Town
END:VALARM
END:VEVENT
END:VCALENDAR
