BEGIN:VCALENDAR
VERSION:2.0
PRODID:Where &amp; When
 //NONSGML Events //EN
CALSCALE:GREGORIAN
X-WR-CALNAME:Where &amp; When
BEGIN:VEVENT
CREATED:20241011T175816Z
UID:93817
DTEND;VALUE=DATE:20241208T050000Z
DTSTART;VALUE=DATE:20241208T050000Z
DTSTAMP:20260423T221442Z
LOCATION:1 Spring Road  Ligonier PA\, 15658
DESCRIPTION:
SUMMARY:Winter Wonderland Market
ORGANIZER: 
URL;VALUE=URI:https://whereandwhen.com/events/winter-wonderland-market/
TRANSP:OPAQUE
BEGIN:VALARM
ACTION:DISPLAY
TRIGGER;VALUE=DATE-TIME:20241208T050000Z
DESCRIPTION:Reminder for Winter Wonderland Market
END:VALARM
END:VEVENT
END:VCALENDAR
