BEGIN:VCALENDAR
VERSION:2.0
PRODID:Where &amp; When
 //NONSGML Events //EN
CALSCALE:GREGORIAN
X-WR-CALNAME:Where &amp; When
BEGIN:VEVENT
CREATED:20240720T195528Z
UID:91967
DTEND;VALUE=DATE:20241122T050000Z
DTSTART;VALUE=DATE:20241122T050000Z
DTSTAMP:20260423T071842Z
LOCATION:N 7th St Indiana PA\, 15701
DESCRIPTION:
SUMMARY:Lucy Donnelly Lite-Up Night and Christmas Parade
ORGANIZER: 
URL;VALUE=URI:https://whereandwhen.com/events/lucy-donnelly-lite-up-night-and-christmas-parade/
TRANSP:OPAQUE
BEGIN:VALARM
ACTION:DISPLAY
TRIGGER;VALUE=DATE-TIME:20241122T050000Z
DESCRIPTION:Reminder for Lucy Donnelly Lite-Up Night and Christmas Parade
END:VALARM
END:VEVENT
END:VCALENDAR
