BEGIN:VCALENDAR
VERSION:2.0
PRODID:Where &amp; When
 //NONSGML Events //EN
CALSCALE:GREGORIAN
X-WR-CALNAME:Where &amp; When
BEGIN:VEVENT
CREATED:20240719T160115Z
UID:91687
DTEND;VALUE=DATE:20241006T050000Z
DTSTART;VALUE=DATE:20241004T050000Z
DTSTAMP:20260424T160237Z
LOCATION:466 Baxter Ave Confluence PA\, 15424
DESCRIPTION:
SUMMARY:35th Annual Confluence PumpkinFest
ORGANIZER: 
URL;VALUE=URI:https://whereandwhen.com/events/35th-annual-confluence-pumpkinfest/
TRANSP:OPAQUE
BEGIN:VALARM
ACTION:DISPLAY
TRIGGER;VALUE=DATE-TIME:20241006T050000Z
DESCRIPTION:Reminder for 35th Annual Confluence PumpkinFest
END:VALARM
END:VEVENT
END:VCALENDAR
