BEGIN:VCALENDAR
VERSION:2.0
PRODID:Where &amp; When
 //NONSGML Events //EN
CALSCALE:GREGORIAN
X-WR-CALNAME:Where &amp; When
BEGIN:VEVENT
CREATED:20240702T191531Z
UID:90819
DTEND;VALUE=DATE:20241206T050000Z
DTSTART;VALUE=DATE:20241205T050000Z
DTSTAMP:20260422T102556Z
LOCATION:Downtown Lewistown PA\, 17044
DESCRIPTION:
SUMMARY:Festival of Ice
ORGANIZER: 
URL;VALUE=URI:https://whereandwhen.com/events/festival-of-ice-5/
TRANSP:OPAQUE
BEGIN:VALARM
ACTION:DISPLAY
TRIGGER;VALUE=DATE-TIME:20241206T050000Z
DESCRIPTION:Reminder for Festival of Ice
END:VALARM
END:VEVENT
END:VCALENDAR
