BEGIN:VCALENDAR
VERSION:2.0
PRODID:Where &amp; When
 //NONSGML Events //EN
CALSCALE:GREGORIAN
X-WR-CALNAME:Where &amp; When
BEGIN:VEVENT
CREATED:20240604T165211Z
UID:90443
DTEND;VALUE=DATE:20240803T050000Z
DTSTART;VALUE=DATE:20240802T050000Z
DTSTAMP:20260422T051200Z
LOCATION:102 S. Allegheny St. Bellefonte PA\, 16823
DESCRIPTION:
SUMMARY:Bellefonte Arts &#038\; Crafts Fair
ORGANIZER: 
URL;VALUE=URI:https://whereandwhen.com/events/bellefonte-arts-crafts-fair-2/
TRANSP:OPAQUE
BEGIN:VALARM
ACTION:DISPLAY
TRIGGER;VALUE=DATE-TIME:20240803T050000Z
DESCRIPTION:Reminder for Bellefonte Arts &#038\; Crafts Fair
END:VALARM
END:VEVENT
END:VCALENDAR
