BEGIN:VCALENDAR
VERSION:2.0
PRODID:Where &amp; When
 //NONSGML Events //EN
CALSCALE:GREGORIAN
X-WR-CALNAME:Where &amp; When
BEGIN:VEVENT
CREATED:20240421T150616Z
UID:89643
DTEND;VALUE=DATE:20240629T050000Z
DTSTART;VALUE=DATE:20240628T050000Z
DTSTAMP:20260425T224526Z
LOCATION:1 Academic Avenue Johnstown PA\, 15904
DESCRIPTION:
SUMMARY:Miss Pennsylvania USA &#038\; Miss Pennsylvania Teen USA
ORGANIZER: 
URL;VALUE=URI:https://whereandwhen.com/events/miss-pennsylvania-usa-miss-pennsylvania-teen-usa/
TRANSP:OPAQUE
BEGIN:VALARM
ACTION:DISPLAY
TRIGGER;VALUE=DATE-TIME:20240629T050000Z
DESCRIPTION:Reminder for Miss Pennsylvania USA &#038\; Miss Pennsylvania Teen USA
END:VALARM
END:VEVENT
END:VCALENDAR
