BEGIN:VCALENDAR
VERSION:2.0
PRODID:Where &amp; When
 //NONSGML Events //EN
CALSCALE:GREGORIAN
X-WR-CALNAME:Where &amp; When
BEGIN:VEVENT
CREATED:20240418T212003Z
UID:89435
DTEND;VALUE=DATE:20240608T050000Z
DTSTART;VALUE=DATE:20240608T050000Z
DTSTAMP:20260422T161410Z
LOCATION:Market St. Williamsport PA\, 17701
DESCRIPTION:
SUMMARY:Williamsport Soap Box Derby
ORGANIZER: 
URL;VALUE=URI:https://whereandwhen.com/events/williamsport-soap-box-derby-5/
TRANSP:OPAQUE
BEGIN:VALARM
ACTION:DISPLAY
TRIGGER;VALUE=DATE-TIME:20240608T050000Z
DESCRIPTION:Reminder for Williamsport Soap Box Derby
END:VALARM
END:VEVENT
END:VCALENDAR
