BEGIN:VCALENDAR
VERSION:2.0
PRODID:Where &amp; When
 //NONSGML Events //EN
CALSCALE:GREGORIAN
X-WR-CALNAME:Where &amp; When
BEGIN:VEVENT
CREATED:20240417T151438Z
UID:89268
DTEND;VALUE=DATE:20240730T050000Z
DTSTART;VALUE=DATE:20240610T050000Z
DTSTAMP:20260424T000603Z
LOCATION:Church St. Honesdale PA\, 18431
DESCRIPTION:
SUMMARY:Wayne County Creative Arts Council Concerts in the Park
ORGANIZER: 
URL;VALUE=URI:https://whereandwhen.com/events/wayne-county-creative-arts-council-concerts-in-the-park/
TRANSP:OPAQUE
BEGIN:VALARM
ACTION:DISPLAY
TRIGGER;VALUE=DATE-TIME:20240730T050000Z
DESCRIPTION:Reminder for Wayne County Creative Arts Council Concerts in the Park
END:VALARM
END:VEVENT
END:VCALENDAR
