BEGIN:VCALENDAR
VERSION:2.0
PRODID:Where &amp; When
 //NONSGML Events //EN
CALSCALE:GREGORIAN
X-WR-CALNAME:Where &amp; When
BEGIN:VEVENT
CREATED:20240417T144310Z
UID:89258
DTEND;VALUE=DATE:20240825T050000Z
DTSTART;VALUE=DATE:20240821T050000Z
DTSTAMP:20260424T205124Z
LOCATION:downtown  York PA\, 17401
DESCRIPTION:
SUMMARY:York Fringe Festival
ORGANIZER: 
URL;VALUE=URI:https://whereandwhen.com/events/york-fringe-festival/
TRANSP:OPAQUE
BEGIN:VALARM
ACTION:DISPLAY
TRIGGER;VALUE=DATE-TIME:20240825T050000Z
DESCRIPTION:Reminder for York Fringe Festival
END:VALARM
END:VEVENT
END:VCALENDAR
