BEGIN:VCALENDAR
VERSION:2.0
PRODID:Where &amp; When
 //NONSGML Events //EN
CALSCALE:GREGORIAN
X-WR-CALNAME:Where &amp; When
BEGIN:VEVENT
CREATED:20240413T154127Z
UID:88757
DTEND;VALUE=DATE:20240718T050000Z
DTSTART;VALUE=DATE:20240613T050000Z
DTSTAMP:20260421T120804Z
LOCATION:Downtown Bedford PA\, 15522
DESCRIPTION:
SUMMARY:Rock the Block
ORGANIZER: 
URL;VALUE=URI:https://whereandwhen.com/events/rock-the-block-3/
TRANSP:OPAQUE
BEGIN:VALARM
ACTION:DISPLAY
TRIGGER;VALUE=DATE-TIME:20240718T050000Z
DESCRIPTION:Reminder for Rock the Block
END:VALARM
END:VEVENT
END:VCALENDAR
