BEGIN:VCALENDAR
VERSION:2.0
PRODID:Where &amp; When
 //NONSGML Events //EN
CALSCALE:GREGORIAN
X-WR-CALNAME:Where &amp; When
BEGIN:VEVENT
CREATED:20240216T032536Z
UID:87800
DTEND;VALUE=DATE:20240706T050000Z
DTSTART;VALUE=DATE:20240629T050000Z
DTSTAMP:20260424T160301Z
LOCATION:East Mahoning Street Punxsutawney PA\, 15767
DESCRIPTION:
SUMMARY:Festival In The Park
ORGANIZER: 
URL;VALUE=URI:https://whereandwhen.com/events/festival-in-the-park/
TRANSP:OPAQUE
BEGIN:VALARM
ACTION:DISPLAY
TRIGGER;VALUE=DATE-TIME:20240706T050000Z
DESCRIPTION:Reminder for Festival In The Park
END:VALARM
END:VEVENT
END:VCALENDAR
