BEGIN:VCALENDAR
VERSION:2.0
PRODID:Where &amp; When
 //NONSGML Events //EN
CALSCALE:GREGORIAN
X-WR-CALNAME:Where &amp; When
BEGIN:VEVENT
CREATED:20240115T215704Z
UID:87317
DTEND;VALUE=DATE:20240306T050000Z
DTSTART;VALUE=DATE:20240306T050000Z
DTSTAMP:20260423T191149Z
LOCATION:24 W Temple Ave Sellersville PA\, 18960
DESCRIPTION:
SUMMARY:Selwyn Birchwood with Katie Henry
ORGANIZER: 
URL;VALUE=URI:https://whereandwhen.com/events/selwyn-birchwood-with-katie-henry/
TRANSP:OPAQUE
BEGIN:VALARM
ACTION:DISPLAY
TRIGGER;VALUE=DATE-TIME:20240306T050000Z
DESCRIPTION:Reminder for Selwyn Birchwood with Katie Henry
END:VALARM
END:VEVENT
END:VCALENDAR
