BEGIN:VCALENDAR
VERSION:2.0
PRODID:Where &amp; When
 //NONSGML Events //EN
CALSCALE:GREGORIAN
X-WR-CALNAME:Where &amp; When
BEGIN:VEVENT
CREATED:20231220T154353Z
UID:86561
DTEND;VALUE=DATE:20240518T050000Z
DTSTART;VALUE=DATE:20240518T050000Z
DTSTAMP:20260424T063034Z
LOCATION:Windy Valley Road Forkston PA\, 18629
DESCRIPTION:
SUMMARY:North Branch Kid’s Trout Derby
ORGANIZER: 
URL;VALUE=URI:https://whereandwhen.com/events/north-branch-kids-trout-derby/
TRANSP:OPAQUE
BEGIN:VALARM
ACTION:DISPLAY
TRIGGER;VALUE=DATE-TIME:20240518T050000Z
DESCRIPTION:Reminder for North Branch Kid’s Trout Derby
END:VALARM
END:VEVENT
END:VCALENDAR
