BEGIN:VCALENDAR
VERSION:2.0
PRODID:Where &amp; When
 //NONSGML Events //EN
CALSCALE:GREGORIAN
X-WR-CALNAME:Where &amp; When
BEGIN:VEVENT
CREATED:20231012T192316Z
UID:85488
DTEND;VALUE=DATE:20240220T050000Z
DTSTART;VALUE=DATE:20240220T050000Z
DTSTAMP:20260420T234037Z
LOCATION:220 W. Fourth St. Williamsport PA\, 17701
DESCRIPTION:
SUMMARY:Keep Marching:  The Road to the March on Washington
ORGANIZER: 
URL;VALUE=URI:https://whereandwhen.com/events/keep-marching-the-road-to-the-march-on-washington/
TRANSP:OPAQUE
BEGIN:VALARM
ACTION:DISPLAY
TRIGGER;VALUE=DATE-TIME:20240220T050000Z
DESCRIPTION:Reminder for Keep Marching:  The Road to the March on Washington
END:VALARM
END:VEVENT
END:VCALENDAR
