BEGIN:VCALENDAR
VERSION:2.0
PRODID:Where &amp; When
 //NONSGML Events //EN
CALSCALE:GREGORIAN
X-WR-CALNAME:Where &amp; When
BEGIN:VEVENT
CREATED:20230720T201019Z
UID:83781
DTEND;VALUE=DATE:20231021T050000Z
DTSTART;VALUE=DATE:20231021T050000Z
DTSTAMP:20260422T055729Z
LOCATION:Kiski Avenue Leechburg PA\, 15656
DESCRIPTION:
SUMMARY:Fall Festival
ORGANIZER: 
URL;VALUE=URI:https://whereandwhen.com/events/fall-festival-6/
TRANSP:OPAQUE
BEGIN:VALARM
ACTION:DISPLAY
TRIGGER;VALUE=DATE-TIME:20231021T050000Z
DESCRIPTION:Reminder for Fall Festival
END:VALARM
END:VEVENT
END:VCALENDAR
