BEGIN:VCALENDAR
VERSION:2.0
PRODID:Where &amp; When
 //NONSGML Events //EN
CALSCALE:GREGORIAN
X-WR-CALNAME:Where &amp; When
BEGIN:VEVENT
CREATED:20230713T133542Z
UID:83015
DTEND;VALUE=DATE:20230916T050000Z
DTSTART;VALUE=DATE:20230916T050000Z
DTSTAMP:20260420T230000Z
LOCATION:Huron & 12th Streets Renovo PA\, 17764
DESCRIPTION:
SUMMARY:Soup &#038\; Ham Pot Pie Sale
ORGANIZER: 
URL;VALUE=URI:https://whereandwhen.com/events/soup-ham-pot-pie-sale/
TRANSP:OPAQUE
BEGIN:VALARM
ACTION:DISPLAY
TRIGGER;VALUE=DATE-TIME:20230916T050000Z
DESCRIPTION:Reminder for Soup &#038\; Ham Pot Pie Sale
END:VALARM
END:VEVENT
END:VCALENDAR
