BEGIN:VCALENDAR
VERSION:2.0
PRODID:Where &amp; When
 //NONSGML Events //EN
CALSCALE:GREGORIAN
X-WR-CALNAME:Where &amp; When
BEGIN:VEVENT
CREATED:20230706T142111Z
UID:82587
DTEND;VALUE=DATE:20230909T050000Z
DTSTART;VALUE=DATE:20230904T050000Z
DTSTAMP:20260421T081954Z
LOCATION:13012 Route 19 S Waterford PA\, 16441
DESCRIPTION:
SUMMARY:Waterford Community Fair
ORGANIZER: 
URL;VALUE=URI:https://whereandwhen.com/events/waterford-community-fair-3/
TRANSP:OPAQUE
BEGIN:VALARM
ACTION:DISPLAY
TRIGGER;VALUE=DATE-TIME:20230909T050000Z
DESCRIPTION:Reminder for Waterford Community Fair
END:VALARM
END:VEVENT
END:VCALENDAR
