BEGIN:VCALENDAR
VERSION:2.0
PRODID:Where &amp; When
 //NONSGML Events //EN
CALSCALE:GREGORIAN
X-WR-CALNAME:Where &amp; When
BEGIN:VEVENT
CREATED:20230705T210323Z
UID:82555
DTEND;VALUE=DATE:20231119T050000Z
DTSTART;VALUE=DATE:20231118T050000Z
DTSTAMP:20260420T102934Z
LOCATION:815 West Fourth Street Williamsport PA\, 17701
DESCRIPTION:
SUMMARY:Duboistown Garden Club Show &#038\; Artisan Market
ORGANIZER: 
URL;VALUE=URI:https://whereandwhen.com/events/duboistown-garden-club-show-artisan-market/
TRANSP:OPAQUE
BEGIN:VALARM
ACTION:DISPLAY
TRIGGER;VALUE=DATE-TIME:20231119T050000Z
DESCRIPTION:Reminder for Duboistown Garden Club Show &#038\; Artisan Market
END:VALARM
END:VEVENT
END:VCALENDAR
