BEGIN:VCALENDAR
VERSION:2.0
PRODID:Where &amp; When
 //NONSGML Events //EN
CALSCALE:GREGORIAN
X-WR-CALNAME:Where &amp; When
BEGIN:VEVENT
CREATED:20230425T150634Z
UID:81246
DTEND;VALUE=DATE:20230929T050000Z
DTSTART;VALUE=DATE:20230410T050000Z
DTSTAMP:20260422T215216Z
LOCATION:1 Susquehanna St. Jim Thorpe PA\, 18229
DESCRIPTION:
SUMMARY:Lehigh Gorge Scenic Train Excursions
ORGANIZER: 
URL;VALUE=URI:https://whereandwhen.com/events/lehigh-gorge-scenic-train-excursions-2/
TRANSP:OPAQUE
BEGIN:VALARM
ACTION:DISPLAY
TRIGGER;VALUE=DATE-TIME:20230929T050000Z
DESCRIPTION:Reminder for Lehigh Gorge Scenic Train Excursions
END:VALARM
END:VEVENT
END:VCALENDAR
