BEGIN:VCALENDAR
VERSION:2.0
PRODID:Where &amp; When
 //NONSGML Events //EN
CALSCALE:GREGORIAN
X-WR-CALNAME:Where &amp; When
BEGIN:VEVENT
CREATED:20230422T193405Z
UID:80737
DTEND;VALUE=DATE:20230603T050000Z
DTSTART;VALUE=DATE:20230603T050000Z
DTSTAMP:20260421T093022Z
LOCATION:5369 Route 655 Belleville PA\, 17004
DESCRIPTION:
SUMMARY:Makers Market
ORGANIZER: 
URL;VALUE=URI:https://whereandwhen.com/events/makers-market-3/
TRANSP:OPAQUE
BEGIN:VALARM
ACTION:DISPLAY
TRIGGER;VALUE=DATE-TIME:20230603T050000Z
DESCRIPTION:Reminder for Makers Market
END:VALARM
END:VEVENT
END:VCALENDAR
