BEGIN:VCALENDAR
VERSION:2.0
PRODID:Where &amp; When
 //NONSGML Events //EN
CALSCALE:GREGORIAN
X-WR-CALNAME:Where &amp; When
BEGIN:VEVENT
CREATED:20230330T194651Z
UID:80140
DTEND;VALUE=DATE:20230723T050000Z
DTSTART;VALUE=DATE:20230722T050000Z
DTSTAMP:20260422T102115Z
LOCATION:5774 State Route 848 New Milford PA\, 18834
DESCRIPTION:
SUMMARY:Wild West Town
ORGANIZER: 
URL;VALUE=URI:https://whereandwhen.com/events/wild-west-town/
TRANSP:OPAQUE
BEGIN:VALARM
ACTION:DISPLAY
TRIGGER;VALUE=DATE-TIME:20230723T050000Z
DESCRIPTION:Reminder for Wild West Town
END:VALARM
END:VEVENT
END:VCALENDAR
