BEGIN:VCALENDAR
VERSION:2.0
PRODID:Where &amp; When
 //NONSGML Events //EN
CALSCALE:GREGORIAN
X-WR-CALNAME:Where &amp; When
BEGIN:VEVENT
CREATED:20230320T185127Z
UID:79997
DTEND;VALUE=DATE:20230708T050000Z
DTSTART;VALUE=DATE:20230707T050000Z
DTSTAMP:20260420T140344Z
LOCATION:467 Crooked Creek Dam Road Ford City PA\, 16226
DESCRIPTION:
SUMMARY:Fort Armstrong Championship Rodeo
ORGANIZER: 
URL;VALUE=URI:https://whereandwhen.com/events/fort-armstrong-championship-rodeo/
TRANSP:OPAQUE
BEGIN:VALARM
ACTION:DISPLAY
TRIGGER;VALUE=DATE-TIME:20230708T050000Z
DESCRIPTION:Reminder for Fort Armstrong Championship Rodeo
END:VALARM
END:VEVENT
END:VCALENDAR
