BEGIN:VCALENDAR
VERSION:2.0
PRODID:Where &amp; When
 //NONSGML Events //EN
CALSCALE:GREGORIAN
X-WR-CALNAME:Where &amp; When
BEGIN:VEVENT
CREATED:20230320T143645Z
UID:79832
DTEND;VALUE=DATE:20230626T050000Z
DTSTART;VALUE=DATE:20230624T050000Z
DTSTAMP:20260422T090927Z
LOCATION:220 Sawblade Rd. Bedford PA\, 15522
DESCRIPTION:
SUMMARY:Wild West Weekend at Old Bedford Village
ORGANIZER: 
URL;VALUE=URI:https://whereandwhen.com/events/wild-west-weekend-at-old-bedford-village/
TRANSP:OPAQUE
BEGIN:VALARM
ACTION:DISPLAY
TRIGGER;VALUE=DATE-TIME:20230626T050000Z
DESCRIPTION:Reminder for Wild West Weekend at Old Bedford Village
END:VALARM
END:VEVENT
END:VCALENDAR
