BEGIN:VCALENDAR
VERSION:2.0
PRODID:Where &amp; When
 //NONSGML Events //EN
CALSCALE:GREGORIAN
X-WR-CALNAME:Where &amp; When
BEGIN:VEVENT
CREATED:20230328T133814Z
UID:79636
DTEND;VALUE=DATE:20230610T050000Z
DTSTART;VALUE=DATE:20230610T050000Z
DTSTAMP:20260419T164940Z
LOCATION:889 Johnson Rd. Friendsville PA\, 18818
DESCRIPTION:
SUMMARY:Fourth Anniversary Celebration
ORGANIZER: 
URL;VALUE=URI:https://whereandwhen.com/events/fourth-anniversary-celebration/
TRANSP:OPAQUE
BEGIN:VALARM
ACTION:DISPLAY
TRIGGER;VALUE=DATE-TIME:20230610T050000Z
DESCRIPTION:Reminder for Fourth Anniversary Celebration
END:VALARM
END:VEVENT
END:VCALENDAR
