BEGIN:VCALENDAR
VERSION:2.0
PRODID:Where &amp; When
 //NONSGML Events //EN
CALSCALE:GREGORIAN
X-WR-CALNAME:Where &amp; When
BEGIN:VEVENT
CREATED:20230119T194828Z
UID:78557
DTEND;VALUE=DATE:20230529T050000Z
DTSTART;VALUE=DATE:20230529T050000Z
DTSTAMP:20260426T004627Z
LOCATION:Eagle Valley Rd. Route 150 Howard PA\, 16841
DESCRIPTION:
SUMMARY:Beech Creek Memorial Day Parade
ORGANIZER: 
URL;VALUE=URI:https://whereandwhen.com/events/beech-creek-memorial-day-parade/
TRANSP:OPAQUE
BEGIN:VALARM
ACTION:DISPLAY
TRIGGER;VALUE=DATE-TIME:20230529T050000Z
DESCRIPTION:Reminder for Beech Creek Memorial Day Parade
END:VALARM
END:VEVENT
END:VCALENDAR
