BEGIN:VCALENDAR
VERSION:2.0
PRODID:Where &amp; When
 //NONSGML Events //EN
CALSCALE:GREGORIAN
X-WR-CALNAME:Where &amp; When
BEGIN:VEVENT
CREATED:20221011T193052Z
UID:76461
DTEND;VALUE=DATE:20230419T050000Z
DTSTART;VALUE=DATE:20230419T050000Z
DTSTAMP:20260421T030919Z
LOCATION:50 North George Street York PA\, 17401
DESCRIPTION:
SUMMARY:The Gruffalo
ORGANIZER: 
URL;VALUE=URI:https://whereandwhen.com/events/the-gruffalo/
TRANSP:OPAQUE
BEGIN:VALARM
ACTION:DISPLAY
TRIGGER;VALUE=DATE-TIME:20230419T050000Z
DESCRIPTION:Reminder for The Gruffalo
END:VALARM
END:VEVENT
END:VCALENDAR
