BEGIN:VCALENDAR
VERSION:2.0
PRODID:Where &amp; When
 //NONSGML Events //EN
CALSCALE:GREGORIAN
X-WR-CALNAME:Where &amp; When
BEGIN:VEVENT
CREATED:20221011T182303Z
UID:76410
DTEND;VALUE=DATE:20221220T050000Z
DTSTART;VALUE=DATE:20221220T050000Z
DTSTAMP:20260423T032717Z
LOCATION:100 West Third Street Williamsport PA\, 17701
DESCRIPTION:
SUMMARY:CTL Concert Series &#8211\; Holiday Jazz
ORGANIZER: 
URL;VALUE=URI:https://whereandwhen.com/events/ctl-concert-series-holiday-jazz/
TRANSP:OPAQUE
BEGIN:VALARM
ACTION:DISPLAY
TRIGGER;VALUE=DATE-TIME:20221220T050000Z
DESCRIPTION:Reminder for CTL Concert Series &#8211\; Holiday Jazz
END:VALARM
END:VEVENT
END:VCALENDAR
