BEGIN:VCALENDAR
VERSION:2.0
PRODID:Where &amp; When
 //NONSGML Events //EN
CALSCALE:GREGORIAN
X-WR-CALNAME:Where &amp; When
BEGIN:VEVENT
CREATED:20220810T191029Z
UID:75445
DTEND;VALUE=DATE:20220911T050000Z
DTSTART;VALUE=DATE:20220910T050000Z
DTSTAMP:20260422T040800Z
LOCATION:95 Presidential Circle Gettysburg PA\, 17325
DESCRIPTION:
SUMMARY:18th Annual Wine &#038\; Music Festival
ORGANIZER: 
URL;VALUE=URI:https://whereandwhen.com/events/18th-annual-wine-music-festival/
TRANSP:OPAQUE
BEGIN:VALARM
ACTION:DISPLAY
TRIGGER;VALUE=DATE-TIME:20220911T050000Z
DESCRIPTION:Reminder for 18th Annual Wine &#038\; Music Festival
END:VALARM
END:VEVENT
END:VCALENDAR
