BEGIN:VCALENDAR
VERSION:2.0
PRODID:Where &amp; When
 //NONSGML Events //EN
CALSCALE:GREGORIAN
X-WR-CALNAME:Where &amp; When
BEGIN:VEVENT
CREATED:20220726T115235Z
UID:75061
DTEND;VALUE=DATE:20220905T050000Z
DTSTART;VALUE=DATE:20220905T050000Z
DTSTAMP:20260425T134420Z
LOCATION:815 Market Street Lewisburg PA\, 17837
DESCRIPTION:
SUMMARY:Toddler Time: Caterpillars and Butterflies
ORGANIZER: 
URL;VALUE=URI:https://whereandwhen.com/events/toddler-time-caterpillars-and-butterflies/
TRANSP:OPAQUE
BEGIN:VALARM
ACTION:DISPLAY
TRIGGER;VALUE=DATE-TIME:20220905T050000Z
DESCRIPTION:Reminder for Toddler Time: Caterpillars and Butterflies
END:VALARM
END:VEVENT
END:VCALENDAR
