BEGIN:VCALENDAR
VERSION:2.0
PRODID:Where &amp; When
 //NONSGML Events //EN
CALSCALE:GREGORIAN
X-WR-CALNAME:Where &amp; When
BEGIN:VEVENT
CREATED:20220725T165938Z
UID:74995
DTEND;VALUE=DATE:20220918T050000Z
DTSTART;VALUE=DATE:20220918T050000Z
DTSTAMP:20260425T233902Z
LOCATION:Downtown West Chester PA\, 19380
DESCRIPTION:
SUMMARY:Chester County Restaurant Festival
ORGANIZER: 
URL;VALUE=URI:https://whereandwhen.com/events/chester-county-restaurant-festival/
TRANSP:OPAQUE
BEGIN:VALARM
ACTION:DISPLAY
TRIGGER;VALUE=DATE-TIME:20220918T050000Z
DESCRIPTION:Reminder for Chester County Restaurant Festival
END:VALARM
END:VEVENT
END:VCALENDAR
