BEGIN:VCALENDAR
VERSION:2.0
PRODID:Where &amp; When
 //NONSGML Events //EN
CALSCALE:GREGORIAN
X-WR-CALNAME:Where &amp; When
BEGIN:VEVENT
CREATED:20220713T161544Z
UID:74364
DTEND;VALUE=DATE:20220925T050000Z
DTSTART;VALUE=DATE:20220923T050000Z
DTSTAMP:20260420T140212Z
LOCATION:90 Main Street Tidioute PA\, 16351
DESCRIPTION:
SUMMARY:PA State Championship Fishing Tournament
ORGANIZER: 
URL;VALUE=URI:https://whereandwhen.com/events/pa-state-championship-fishing-tournament/
TRANSP:OPAQUE
BEGIN:VALARM
ACTION:DISPLAY
TRIGGER;VALUE=DATE-TIME:20220925T050000Z
DESCRIPTION:Reminder for PA State Championship Fishing Tournament
END:VALARM
END:VEVENT
END:VCALENDAR
