BEGIN:VCALENDAR
VERSION:2.0
PRODID:Where &amp; When
 //NONSGML Events //EN
CALSCALE:GREGORIAN
X-WR-CALNAME:Where &amp; When
BEGIN:VEVENT
CREATED:20220606T164439Z
UID:73215
DTEND;VALUE=DATE:20220604T050000Z
DTSTART;VALUE=DATE:20220604T050000Z
DTSTAMP:20260421T093914Z
LOCATION:1425 North American Street Philadelphia PA\, 19122
DESCRIPTION:
SUMMARY:The Clay Studio Presents Making Place Matter Symposium
ORGANIZER: 
URL;VALUE=URI:https://whereandwhen.com/events/the-clay-studio-presents-making-place-matter-symposium/
TRANSP:OPAQUE
BEGIN:VALARM
ACTION:DISPLAY
TRIGGER;VALUE=DATE-TIME:20220604T050000Z
DESCRIPTION:Reminder for The Clay Studio Presents Making Place Matter Symposium
END:VALARM
END:VEVENT
END:VCALENDAR
