BEGIN:VCALENDAR
VERSION:2.0
PRODID:Where &amp; When
 //NONSGML Events //EN
CALSCALE:GREGORIAN
X-WR-CALNAME:Where &amp; When
BEGIN:VEVENT
CREATED:20220422T001000Z
UID:72904
DTEND;VALUE=DATE:20220904T050000Z
DTSTART;VALUE=DATE:20220805T050000Z
DTSTAMP:20260420T004726Z
LOCATION:2 East Bald Eagle Street Lock Haven PA\, 17745
DESCRIPTION:
SUMMARY:Regional 2D/3D Exhibit
ORGANIZER: 
URL;VALUE=URI:https://whereandwhen.com/events/regional-2d-3d-exhibit/
TRANSP:OPAQUE
BEGIN:VALARM
ACTION:DISPLAY
TRIGGER;VALUE=DATE-TIME:20220904T050000Z
DESCRIPTION:Reminder for Regional 2D/3D Exhibit
END:VALARM
END:VEVENT
END:VCALENDAR
