BEGIN:VCALENDAR
VERSION:2.0
PRODID:Where &amp; When
 //NONSGML Events //EN
CALSCALE:GREGORIAN
X-WR-CALNAME:Where &amp; When
BEGIN:VEVENT
CREATED:20220421T222112Z
UID:72794
DTEND;VALUE=DATE:20220618T050000Z
DTSTART;VALUE=DATE:20220618T050000Z
DTSTAMP:20260421T111633Z
LOCATION:161 Sportsman's Lane North Bend PA\, 17760
DESCRIPTION:
SUMMARY:Sproul 10K
ORGANIZER: 
URL;VALUE=URI:https://whereandwhen.com/events/sproul-10k/
TRANSP:OPAQUE
BEGIN:VALARM
ACTION:DISPLAY
TRIGGER;VALUE=DATE-TIME:20220618T050000Z
DESCRIPTION:Reminder for Sproul 10K
END:VALARM
END:VEVENT
END:VCALENDAR
