BEGIN:VCALENDAR
VERSION:2.0
PRODID:Where &amp; When
 //NONSGML Events //EN
CALSCALE:GREGORIAN
X-WR-CALNAME:Where &amp; When
BEGIN:VEVENT
CREATED:20220420T224035Z
UID:72628
DTEND;VALUE=DATE:20220813T050000Z
DTSTART;VALUE=DATE:20220813T050000Z
DTSTAMP:20260424T024505Z
LOCATION:15 S. Main St Chambersburg PA\, 17201
DESCRIPTION:
SUMMARY:300 Years of Flavor
ORGANIZER: 
URL;VALUE=URI:https://whereandwhen.com/events/300-years-of-flavor/
TRANSP:OPAQUE
BEGIN:VALARM
ACTION:DISPLAY
TRIGGER;VALUE=DATE-TIME:20220813T050000Z
DESCRIPTION:Reminder for 300 Years of Flavor
END:VALARM
END:VEVENT
END:VCALENDAR
