BEGIN:VCALENDAR
VERSION:2.0
PRODID:Where &amp; When
 //NONSGML Events //EN
CALSCALE:GREGORIAN
X-WR-CALNAME:Where &amp; When
BEGIN:VEVENT
CREATED:20220412T183715Z
UID:72259
DTEND;VALUE=DATE:20220814T050000Z
DTSTART;VALUE=DATE:20220813T050000Z
DTSTAMP:20260425T132155Z
LOCATION:4205 Little Pine Creek Road Waterville PA\, 17776
DESCRIPTION:
SUMMARY:Eastern States 100
ORGANIZER: 
URL;VALUE=URI:https://whereandwhen.com/events/eastern-states-100-3/
TRANSP:OPAQUE
BEGIN:VALARM
ACTION:DISPLAY
TRIGGER;VALUE=DATE-TIME:20220814T050000Z
DESCRIPTION:Reminder for Eastern States 100
END:VALARM
END:VEVENT
END:VCALENDAR
