BEGIN:VCALENDAR
VERSION:2.0
PRODID:Where &amp; When
 //NONSGML Events //EN
CALSCALE:GREGORIAN
X-WR-CALNAME:Where &amp; When
BEGIN:VEVENT
CREATED:20220405T181034Z
UID:71941
DTEND;VALUE=DATE:20220802T050000Z
DTSTART;VALUE=DATE:20220802T050000Z
DTSTAMP:20260425T125309Z
LOCATION:Chambers Street Bradford PA\, 16701
DESCRIPTION:
SUMMARY:National Night Out
ORGANIZER: 
URL;VALUE=URI:https://whereandwhen.com/events/national-night-out/
TRANSP:OPAQUE
BEGIN:VALARM
ACTION:DISPLAY
TRIGGER;VALUE=DATE-TIME:20220802T050000Z
DESCRIPTION:Reminder for National Night Out
END:VALARM
END:VEVENT
END:VCALENDAR
