BEGIN:VCALENDAR
VERSION:2.0
PRODID:Where &amp; When
 //NONSGML Events //EN
CALSCALE:GREGORIAN
X-WR-CALNAME:Where &amp; When
BEGIN:VEVENT
CREATED:20220119T171610Z
UID:70217
DTEND;VALUE=DATE:20220507T050000Z
DTSTART;VALUE=DATE:20220507T050000Z
DTSTAMP:20260422T215831Z
LOCATION:1 Central Avenue Wellsboro PA\, 16901
DESCRIPTION:
SUMMARY:Mammoth Endurance Gravel
ORGANIZER: 
URL;VALUE=URI:https://whereandwhen.com/events/mammoth-endurance-gravel/
TRANSP:OPAQUE
BEGIN:VALARM
ACTION:DISPLAY
TRIGGER;VALUE=DATE-TIME:20220507T050000Z
DESCRIPTION:Reminder for Mammoth Endurance Gravel
END:VALARM
END:VEVENT
END:VCALENDAR
