BEGIN:VCALENDAR
VERSION:2.0
PRODID:Where &amp; When
 //NONSGML Events //EN
CALSCALE:GREGORIAN
X-WR-CALNAME:Where &amp; When
BEGIN:VEVENT
CREATED:20220111T153830Z
UID:69565
DTEND;VALUE=DATE:20220416T050000Z
DTSTART;VALUE=DATE:20220416T050000Z
DTSTAMP:20260426T021035Z
LOCATION:2425 Lincoln Highway East Lancaster PA\, 17602
DESCRIPTION:
SUMMARY:Disney Princess Concert
ORGANIZER: 
URL;VALUE=URI:https://whereandwhen.com/events/disney-princess-concert/
TRANSP:OPAQUE
BEGIN:VALARM
ACTION:DISPLAY
TRIGGER;VALUE=DATE-TIME:20220416T050000Z
DESCRIPTION:Reminder for Disney Princess Concert
END:VALARM
END:VEVENT
END:VCALENDAR
