BEGIN:VCALENDAR
VERSION:2.0
PRODID:Where &amp; When
 //NONSGML Events //EN
CALSCALE:GREGORIAN
X-WR-CALNAME:Where &amp; When
BEGIN:VEVENT
CREATED:20211015T141641Z
UID:68266
DTEND;VALUE=DATE:20211211T050000Z
DTSTART;VALUE=DATE:20211211T050000Z
DTSTAMP:20260423T073617Z
LOCATION:220 West Fourth Street Williamsport PA\, 17701
DESCRIPTION:
SUMMARY:Holiday Concert
ORGANIZER: 
URL;VALUE=URI:https://whereandwhen.com/events/holiday-concert/
TRANSP:OPAQUE
BEGIN:VALARM
ACTION:DISPLAY
TRIGGER;VALUE=DATE-TIME:20211211T050000Z
DESCRIPTION:Reminder for Holiday Concert
END:VALARM
END:VEVENT
END:VCALENDAR
