BEGIN:VCALENDAR
VERSION:2.0
PRODID:Where &amp; When
 //NONSGML Events //EN
CALSCALE:GREGORIAN
X-WR-CALNAME:Where &amp; When
BEGIN:VEVENT
CREATED:20211014T173104Z
UID:68170
DTEND;VALUE=DATE:20220102T050000Z
DTSTART;VALUE=DATE:20211126T050000Z
DTSTAMP:20260419T235624Z
LOCATION:954 PA-487 Elysburg PA\, 17824
DESCRIPTION:
SUMMARY:Christmas Village At Three Ponds Golf Course
ORGANIZER: 
URL;VALUE=URI:https://whereandwhen.com/events/christmas-village-at-three-ponds-golf-course/
TRANSP:OPAQUE
BEGIN:VALARM
ACTION:DISPLAY
TRIGGER;VALUE=DATE-TIME:20220102T050000Z
DESCRIPTION:Reminder for Christmas Village At Three Ponds Golf Course
END:VALARM
END:VEVENT
END:VCALENDAR
