BEGIN:VCALENDAR
VERSION:2.0
PRODID:Where &amp; When
 //NONSGML Events //EN
CALSCALE:GREGORIAN
X-WR-CALNAME:Where &amp; When
BEGIN:VEVENT
CREATED:20210729T200828Z
UID:66916
DTEND;VALUE=DATE:20211102T050000Z
DTSTART;VALUE=DATE:20211102T050000Z
DTSTAMP:20260421T063115Z
LOCATION:655 Church Street\, Suite 114 Indiana PA\, 15701
DESCRIPTION:
SUMMARY:Pancake &#038\; Sausage Day – United Way Of Indiana County
ORGANIZER: 
URL;VALUE=URI:https://whereandwhen.com/events/pancake-sausage-day-united-way-of-indiana-county/
TRANSP:OPAQUE
BEGIN:VALARM
ACTION:DISPLAY
TRIGGER;VALUE=DATE-TIME:20211102T050000Z
DESCRIPTION:Reminder for Pancake &#038\; Sausage Day – United Way Of Indiana County
END:VALARM
END:VEVENT
END:VCALENDAR
