BEGIN:VCALENDAR
VERSION:2.0
PRODID:Where &amp; When
 //NONSGML Events //EN
CALSCALE:GREGORIAN
X-WR-CALNAME:Where &amp; When
BEGIN:VEVENT
CREATED:20210729T174451Z
UID:66843
DTEND;VALUE=DATE:20210918T050000Z
DTSTART;VALUE=DATE:20210918T050000Z
DTSTAMP:20260424T060226Z
LOCATION:2048 Route 240 Commodore PA\, 15729
DESCRIPTION:
SUMMARY:Last Points Pull &#8211\; Cookport Antique Machinery Show
ORGANIZER: 
URL;VALUE=URI:https://whereandwhen.com/events/last-points-pull-cookport-antique-machinery-show/
TRANSP:OPAQUE
BEGIN:VALARM
ACTION:DISPLAY
TRIGGER;VALUE=DATE-TIME:20210918T050000Z
DESCRIPTION:Reminder for Last Points Pull &#8211\; Cookport Antique Machinery Show
END:VALARM
END:VEVENT
END:VCALENDAR
