BEGIN:VCALENDAR
VERSION:2.0
PRODID:Where &amp; When
 //NONSGML Events //EN
CALSCALE:GREGORIAN
X-WR-CALNAME:Where &amp; When
BEGIN:VEVENT
CREATED:20210729T144750Z
UID:66768
DTEND;VALUE=DATE:20210911T050000Z
DTSTART;VALUE=DATE:20210905T050000Z
DTSTAMP:20260426T001757Z
LOCATION:1752 Mahoning Road Home PA\, 15747
DESCRIPTION:
SUMMARY:86th Annual Ox Hill Community Fair
ORGANIZER: 
URL;VALUE=URI:https://whereandwhen.com/events/86th-annual-ox-hill-community-fair/
TRANSP:OPAQUE
BEGIN:VALARM
ACTION:DISPLAY
TRIGGER;VALUE=DATE-TIME:20210911T050000Z
DESCRIPTION:Reminder for 86th Annual Ox Hill Community Fair
END:VALARM
END:VEVENT
END:VCALENDAR
