BEGIN:VCALENDAR
VERSION:2.0
PRODID:Where &amp; When
 //NONSGML Events //EN
CALSCALE:GREGORIAN
X-WR-CALNAME:Where &amp; When
BEGIN:VEVENT
CREATED:20210729T132951Z
UID:66737
DTEND;VALUE=DATE:20211009T050000Z
DTSTART;VALUE=DATE:20211009T050000Z
DTSTAMP:20260421T193518Z
LOCATION:Throughout Downtown Clearfield PA\, 16830
DESCRIPTION:
SUMMARY:Fall Festival / Pumpkin 5K Run / Car\, Truck &#038\; Motorcycle Show
ORGANIZER: 
URL;VALUE=URI:https://whereandwhen.com/events/fall-festival-pumpkin-5k-run-car-truck-motorcycle-show/
TRANSP:OPAQUE
BEGIN:VALARM
ACTION:DISPLAY
TRIGGER;VALUE=DATE-TIME:20211009T050000Z
DESCRIPTION:Reminder for Fall Festival / Pumpkin 5K Run / Car\, Truck &#038\; Motorcycle Show
END:VALARM
END:VEVENT
END:VCALENDAR
