BEGIN:VCALENDAR
VERSION:2.0
PRODID:Where &amp; When
 //NONSGML Events //EN
CALSCALE:GREGORIAN
X-WR-CALNAME:Where &amp; When
BEGIN:VEVENT
CREATED:20210727T193250Z
UID:66290
DTEND;VALUE=DATE:20211031T050000Z
DTSTART;VALUE=DATE:20210924T050000Z
DTSTAMP:20260421T204121Z
LOCATION:12382 Center Street Conneaut Lake PA\, 16316
DESCRIPTION:
SUMMARY:Ghost Lake &#8211\; 13 Levels of Fear
ORGANIZER: 
URL;VALUE=URI:https://whereandwhen.com/events/ghost-lake-13-levels-of-fear/
TRANSP:OPAQUE
BEGIN:VALARM
ACTION:DISPLAY
TRIGGER;VALUE=DATE-TIME:20211031T050000Z
DESCRIPTION:Reminder for Ghost Lake &#8211\; 13 Levels of Fear
END:VALARM
END:VEVENT
END:VCALENDAR
