BEGIN:VCALENDAR
VERSION:2.0
PRODID:Where &amp; When
 //NONSGML Events //EN
CALSCALE:GREGORIAN
X-WR-CALNAME:Where &amp; When
BEGIN:VEVENT
CREATED:20210727T121404Z
UID:66148
DTEND;VALUE=DATE:20210905T050000Z
DTSTART;VALUE=DATE:20210904T050000Z
DTSTAMP:20260422T034339Z
LOCATION:Downtown Danville PA\, 17821
DESCRIPTION:
SUMMARY:42nd Fall Arts and Crafts Festival
ORGANIZER: 
URL;VALUE=URI:https://whereandwhen.com/events/42nd-fall-arts-and-crafts-festival/
TRANSP:OPAQUE
BEGIN:VALARM
ACTION:DISPLAY
TRIGGER;VALUE=DATE-TIME:20210905T050000Z
DESCRIPTION:Reminder for 42nd Fall Arts and Crafts Festival
END:VALARM
END:VEVENT
END:VCALENDAR
