BEGIN:VCALENDAR
VERSION:2.0
PRODID:Where &amp; When
 //NONSGML Events //EN
CALSCALE:GREGORIAN
X-WR-CALNAME:Where &amp; When
BEGIN:VEVENT
CREATED:20210720T205739Z
UID:65700
DTEND;VALUE=DATE:20211113T050000Z
DTSTART;VALUE=DATE:20211112T050000Z
DTSTAMP:20260423T110958Z
LOCATION:100 West Third Street Williamsport PA\, 17701
DESCRIPTION:
SUMMARY:All Together Now!
ORGANIZER: 
URL;VALUE=URI:https://whereandwhen.com/events/all-together-now/
TRANSP:OPAQUE
BEGIN:VALARM
ACTION:DISPLAY
TRIGGER;VALUE=DATE-TIME:20211113T050000Z
DESCRIPTION:Reminder for All Together Now!
END:VALARM
END:VEVENT
END:VCALENDAR
